BEGIN:VCALENDAR
VERSION:2.0
PRODID:-//Motive8me - Personal Trainer - ECPv6.15.20//NONSGML v1.0//EN
CALSCALE:GREGORIAN
METHOD:PUBLISH
X-WR-CALNAME:Motive8me - Personal Trainer
X-ORIGINAL-URL:https://motive8me.com
X-WR-CALDESC:Events for Motive8me - Personal Trainer
REFRESH-INTERVAL;VALUE=DURATION:PT1H
X-Robots-Tag:noindex
X-PUBLISHED-TTL:PT1H
BEGIN:VTIMEZONE
TZID:Europe/London
BEGIN:DAYLIGHT
TZOFFSETFROM:+0000
TZOFFSETTO:+0100
TZNAME:BST
DTSTART:20250330T010000
END:DAYLIGHT
BEGIN:STANDARD
TZOFFSETFROM:+0100
TZOFFSETTO:+0000
TZNAME:GMT
DTSTART:20251026T010000
END:STANDARD
BEGIN:DAYLIGHT
TZOFFSETFROM:+0000
TZOFFSETTO:+0100
TZNAME:BST
DTSTART:20260329T010000
END:DAYLIGHT
BEGIN:STANDARD
TZOFFSETFROM:+0100
TZOFFSETTO:+0000
TZNAME:GMT
DTSTART:20261025T010000
END:STANDARD
BEGIN:DAYLIGHT
TZOFFSETFROM:+0000
TZOFFSETTO:+0100
TZNAME:BST
DTSTART:20270328T010000
END:DAYLIGHT
BEGIN:STANDARD
TZOFFSETFROM:+0100
TZOFFSETTO:+0000
TZNAME:GMT
DTSTART:20271031T010000
END:STANDARD
END:VTIMEZONE
BEGIN:VEVENT
DTSTART;TZID=Europe/London:20260330T183000
DTEND;TZID=Europe/London:20260330T193000
DTSTAMP:20260421T204309
CREATED:20260226T143243Z
LAST-MODIFIED:20260226T143243Z
UID:6230-1774895400-1774899000@motive8me.com
SUMMARY:Truro evening bootcamp
DESCRIPTION:We meet on the area of hard standing in Boscawen park down by the river. Parking is available at the far end of the car park\, near the last tennis courts. Walk past the new Truro canoe club building and you will see the area we use. \nPlease bring your own mat\, drink and a towel. We work out in all weathers so please bring something to change into in case it rains. \n  \nThanks \nJez
URL:https://motive8me.com/event-schedule/truro-evening-bootcamp-16/
LOCATION:Tabernacle street\, Glasteian house\, Truro\, Cornwall\, tr12ej\, United Kingdom
CATEGORIES:Monday
END:VEVENT
END:VCALENDAR