BEGIN:VCALENDAR
VERSION:2.0
PRODID:-//Motive8me - Personal Trainer - ECPv6.15.20//NONSGML v1.0//EN
CALSCALE:GREGORIAN
METHOD:PUBLISH
X-ORIGINAL-URL:https://motive8me.com
X-WR-CALDESC:Events for Motive8me - Personal Trainer
REFRESH-INTERVAL;VALUE=DURATION:PT1H
X-Robots-Tag:noindex
X-PUBLISHED-TTL:PT1H
BEGIN:VTIMEZONE
TZID:Europe/London
BEGIN:DAYLIGHT
TZOFFSETFROM:+0000
TZOFFSETTO:+0100
TZNAME:BST
DTSTART:20250330T010000
END:DAYLIGHT
BEGIN:STANDARD
TZOFFSETFROM:+0100
TZOFFSETTO:+0000
TZNAME:GMT
DTSTART:20251026T010000
END:STANDARD
BEGIN:DAYLIGHT
TZOFFSETFROM:+0000
TZOFFSETTO:+0100
TZNAME:BST
DTSTART:20260329T010000
END:DAYLIGHT
BEGIN:STANDARD
TZOFFSETFROM:+0100
TZOFFSETTO:+0000
TZNAME:GMT
DTSTART:20261025T010000
END:STANDARD
BEGIN:DAYLIGHT
TZOFFSETFROM:+0000
TZOFFSETTO:+0100
TZNAME:BST
DTSTART:20270328T010000
END:DAYLIGHT
BEGIN:STANDARD
TZOFFSETFROM:+0100
TZOFFSETTO:+0000
TZNAME:GMT
DTSTART:20271031T010000
END:STANDARD
END:VTIMEZONE
BEGIN:VEVENT
DTSTART;TZID=Europe/London:20260303T093000
DTEND;TZID=Europe/London:20260303T103000
DTSTAMP:20260421T191537
CREATED:20260226T141222Z
LAST-MODIFIED:20260226T141222Z
UID:6208-1772530200-1772533800@motive8me.com
SUMMARY:Tuesday Truro outdoor Bootcamp
DESCRIPTION:We meet on the area of hard standing in Boscawen park down by the river. Parking is available at the far end of the car park\, near the last tennis courts. Walk past the new Truro canoe club building and you will see the area we use. \nPlease bring your own mat\, drink and a towel. We work out in all weathers so please bring something to change into in case it rains. \n  \nThanks \nJez
URL:https://motive8me.com/event-schedule/tuesday-truro-outdoor-bootcamp/
LOCATION:Boscawen Park
CATEGORIES:Tuesday
END:VEVENT
BEGIN:VEVENT
DTSTART;TZID=Europe/London:20260307T090000
DTEND;TZID=Europe/London:20260307T100000
DTSTAMP:20260421T191537
CREATED:20260226T141407Z
LAST-MODIFIED:20260226T141407Z
UID:6210-1772874000-1772877600@motive8me.com
SUMMARY:Truro Saturday Bootcamp
DESCRIPTION:We meet on the area of hard standing in Boscawen park down by the river. Parking is available at the far end of the car park\, near the last tennis courts. Walk past the new Truro canoe club building and you will see the area we use. \nPlease bring your own mat\, drink and a towel. We work out in all weathers so please bring something to change into in case it rains. \n  \nThanks \nJez
URL:https://motive8me.com/event-schedule/truro-saturday-bootcamp/
LOCATION:Boscawen Park
CATEGORIES:Saturday
END:VEVENT
BEGIN:VEVENT
DTSTART;TZID=Europe/London:20260310T093000
DTEND;TZID=Europe/London:20260310T103000
DTSTAMP:20260421T191537
CREATED:20260226T141923Z
LAST-MODIFIED:20260226T141923Z
UID:6215-1773135000-1773138600@motive8me.com
SUMMARY:Tuesday Truro outdoor Bootcamp
DESCRIPTION:We meet on the area of hard standing in Boscawen park down by the river. Parking is available at the far end of the car park\, near the last tennis courts. Walk past the new Truro canoe club building and you will see the area we use. \nPlease bring your own mat\, drink and a towel. We work out in all weathers so please bring something to change into in case it rains. \n  \nThanks \nJez
URL:https://motive8me.com/event-schedule/tuesday-truro-outdoor-bootcamp-2/
LOCATION:Boscawen Park
CATEGORIES:Tuesday
END:VEVENT
BEGIN:VEVENT
DTSTART;TZID=Europe/London:20260314T090000
DTEND;TZID=Europe/London:20260314T100000
DTSTAMP:20260421T191537
CREATED:20260226T142201Z
LAST-MODIFIED:20260226T142201Z
UID:6218-1773478800-1773482400@motive8me.com
SUMMARY:Truro Saturday Bootcamp
DESCRIPTION:We meet on the area of hard standing in Boscawen park down by the river. Parking is available at the far end of the car park\, near the last tennis courts. Walk past the new Truro canoe club building and you will see the area we use. \nPlease bring your own mat\, drink and a towel. We work out in all weathers so please bring something to change into in case it rains. \n  \nThanks \nJez
URL:https://motive8me.com/event-schedule/truro-saturday-bootcamp-2/
LOCATION:Boscawen Park
CATEGORIES:Saturday
END:VEVENT
BEGIN:VEVENT
DTSTART;TZID=Europe/London:20260317T093000
DTEND;TZID=Europe/London:20260317T103000
DTSTAMP:20260421T191537
CREATED:20260226T142029Z
LAST-MODIFIED:20260226T142029Z
UID:6214-1773739800-1773743400@motive8me.com
SUMMARY:Tuesday Truro outdoor Bootcamp
DESCRIPTION:We meet on the area of hard standing in Boscawen park down by the river. Parking is available at the far end of the car park\, near the last tennis courts. Walk past the new Truro canoe club building and you will see the area we use. \nPlease bring your own mat\, drink and a towel. We work out in all weathers so please bring something to change into in case it rains. \n  \nThanks \nJez
URL:https://motive8me.com/event-schedule/tuesday-truro-outdoor-bootcamp-3/
LOCATION:Boscawen Park
CATEGORIES:Tuesday
END:VEVENT
BEGIN:VEVENT
DTSTART;TZID=Europe/London:20260321T090000
DTEND;TZID=Europe/London:20260321T100000
DTSTAMP:20260421T191537
CREATED:20260226T142553Z
LAST-MODIFIED:20260226T142553Z
UID:6222-1774083600-1774087200@motive8me.com
SUMMARY:Truro Saturday Bootcamp
DESCRIPTION:We meet on the area of hard standing in Boscawen park down by the river. Parking is available at the far end of the car park\, near the last tennis courts. Walk past the new Truro canoe club building and you will see the area we use. \nPlease bring your own mat\, drink and a towel. We work out in all weathers so please bring something to change into in case it rains. \n  \nThanks \nJez
URL:https://motive8me.com/event-schedule/truro-saturday-bootcamp-14/
LOCATION:Boscawen Park
CATEGORIES:Saturday
END:VEVENT
BEGIN:VEVENT
DTSTART;TZID=Europe/London:20260324T093000
DTEND;TZID=Europe/London:20260324T103000
DTSTAMP:20260421T191537
CREATED:20260226T142853Z
LAST-MODIFIED:20260226T142853Z
UID:6226-1774344600-1774348200@motive8me.com
SUMMARY:Tuesday Truro outdoor Bootcamp
DESCRIPTION:We meet on the area of hard standing in Boscawen park down by the river. Parking is available at the far end of the car park\, near the last tennis courts. Walk past the new Truro canoe club building and you will see the area we use. \nPlease bring your own mat\, drink and a towel. We work out in all weathers so please bring something to change into in case it rains. \n  \nThanks \nJez
URL:https://motive8me.com/event-schedule/tuesday-truro-outdoor-bootcamp-15/
LOCATION:Boscawen Park
CATEGORIES:Tuesday
END:VEVENT
BEGIN:VEVENT
DTSTART;TZID=Europe/London:20260328T090000
DTEND;TZID=Europe/London:20260328T100000
DTSTAMP:20260421T191537
CREATED:20260226T143056Z
LAST-MODIFIED:20260226T143056Z
UID:6228-1774688400-1774692000@motive8me.com
SUMMARY:Truro Saturday Bootcamp
DESCRIPTION:We meet on the area of hard standing in Boscawen park down by the river. Parking is available at the far end of the car park\, near the last tennis courts. Walk past the new Truro canoe club building and you will see the area we use. \nPlease bring your own mat\, drink and a towel. We work out in all weathers so please bring something to change into in case it rains. \n  \nThanks \nJez
URL:https://motive8me.com/event-schedule/truro-saturday-bootcamp-15/
LOCATION:Boscawen Park
CATEGORIES:Saturday
END:VEVENT
BEGIN:VEVENT
DTSTART;TZID=Europe/London:20260331T093000
DTEND;TZID=Europe/London:20260331T103000
DTSTAMP:20260421T191537
CREATED:20260226T143416Z
LAST-MODIFIED:20260226T143416Z
UID:6232-1774949400-1774953000@motive8me.com
SUMMARY:Tuesday Truro outdoor Bootcamp
DESCRIPTION:We meet on the area of hard standing in Boscawen park down by the river. Parking is available at the far end of the car park\, near the last tennis courts. Walk past the new Truro canoe club building and you will see the area we use. \nPlease bring your own mat\, drink and a towel. We work out in all weathers so please bring something to change into in case it rains. \n  \nThanks \nJez
URL:https://motive8me.com/event-schedule/tuesday-truro-outdoor-bootcamp-16/
LOCATION:Boscawen Park
CATEGORIES:Tuesday
END:VEVENT
END:VCALENDAR